BEGIN:VCALENDAR
VERSION:2.0
PRODID:-//Kontemplacija &amp; Mistika - ECPv6.15.20//NONSGML v1.0//EN
CALSCALE:GREGORIAN
METHOD:PUBLISH
X-ORIGINAL-URL:https://kontemplacija.hr
X-WR-CALDESC:Događaji za Kontemplacija &amp; Mistika
REFRESH-INTERVAL;VALUE=DURATION:PT1H
X-Robots-Tag:noindex
X-PUBLISHED-TTL:PT1H
BEGIN:VTIMEZONE
TZID:Europe/Zagreb
BEGIN:DAYLIGHT
TZOFFSETFROM:+0100
TZOFFSETTO:+0200
TZNAME:CEST
DTSTART:20250330T010000
END:DAYLIGHT
BEGIN:STANDARD
TZOFFSETFROM:+0200
TZOFFSETTO:+0100
TZNAME:CET
DTSTART:20251026T010000
END:STANDARD
BEGIN:DAYLIGHT
TZOFFSETFROM:+0100
TZOFFSETTO:+0200
TZNAME:CEST
DTSTART:20260329T010000
END:DAYLIGHT
BEGIN:STANDARD
TZOFFSETFROM:+0200
TZOFFSETTO:+0100
TZNAME:CET
DTSTART:20261025T010000
END:STANDARD
BEGIN:DAYLIGHT
TZOFFSETFROM:+0100
TZOFFSETTO:+0200
TZNAME:CEST
DTSTART:20270328T010000
END:DAYLIGHT
BEGIN:STANDARD
TZOFFSETFROM:+0200
TZOFFSETTO:+0100
TZNAME:CET
DTSTART:20271031T010000
END:STANDARD
END:VTIMEZONE
BEGIN:VEVENT
DTSTART;VALUE=DATE:20260418
DTEND;VALUE=DATE:20260420
DTSTAMP:20260420T154732
CREATED:20260321T092815Z
LAST-MODIFIED:20260406T174015Z
UID:1541-1776470400-1776643199@kontemplacija.hr
SUMMARY:Uvodni tečaj kontemplacije
DESCRIPTION:Dvodnevni tečaj u kojemu se upoznaješ s teorijom i prvim iskustvima kontemplativnog sjedenja. Saznaj više > \nObavezna prijava jer su mjesta ograničena Prijavi se >
URL:https://kontemplacija.hr/event/uvodni-tecaj-kontemplacije/
LOCATION:Sve po špagi – yoga studio\, Ilica 169\, Zagreb\, 10000\, Croatia (Local Name: Hrvatska)
CATEGORIES:Uvodni tečajevi
ATTACH;FMTTYPE=image/jpeg:https://kontemplacija.b-cdn.net/wp-content/uploads/2019/02/kontemplacija_uvodni_intenziv.jpg
ORGANIZER;CN="Kontemplacija & Mistika":MAILTO:neven.bradic@gmail.com
END:VEVENT
BEGIN:VEVENT
DTSTART;VALUE=DATE:20260430
DTEND;VALUE=DATE:20260506
DTSTAMP:20260420T154732
CREATED:20260321T093758Z
LAST-MODIFIED:20260321T093758Z
UID:1544-1777507200-1778025599@kontemplacija.hr
SUMMARY:Proljetno povlačenje – Vrata
DESCRIPTION:
URL:https://kontemplacija.hr/event/proljetno-povlacenje-vrata/
ATTACH;FMTTYPE=image/jpeg:https://kontemplacija.b-cdn.net/wp-content/uploads/2019/11/Vrata_listopad-2019-e1573136459432.jpg
ORGANIZER;CN="Kontemplacija & Mistika":MAILTO:neven.bradic@gmail.com
END:VEVENT
BEGIN:VEVENT
DTSTART;VALUE=DATE:20260516
DTEND;VALUE=DATE:20260518
DTSTAMP:20260420T154732
CREATED:20260406T174006Z
LAST-MODIFIED:20260406T174016Z
UID:1958-1778889600-1779062399@kontemplacija.hr
SUMMARY:Uvodni tečaj kontemplacije
DESCRIPTION:Dvodnevni tečaj u kojemu se upoznaješ s teorijom i prvim iskustvima kontemplativnog sjedenja. Saznaj više > \nObavezna prijava jer su mjesta ograničena Prijavi se >
URL:https://kontemplacija.hr/event/uvodni-tecaj-kontemplacije-2/
LOCATION:Sve po špagi – yoga studio\, Ilica 169\, Zagreb\, 10000\, Croatia (Local Name: Hrvatska)
CATEGORIES:Uvodni tečajevi
ORGANIZER;CN="Kontemplacija & Mistika":MAILTO:neven.bradic@gmail.com
END:VEVENT
BEGIN:VEVENT
DTSTART;VALUE=DATE:20260614
DTEND;VALUE=DATE:20260615
DTSTAMP:20260420T154732
CREATED:20260321T093949Z
LAST-MODIFIED:20260321T094101Z
UID:1546-1781395200-1781481599@kontemplacija.hr
SUMMARY:Dan kontemplacije
DESCRIPTION:Obavezne prijave
URL:https://kontemplacija.hr/event/dan-kontemplacije-2/
LOCATION:Dojo 66\, Heinzelova 6\, Zagreb\, 10000\, Croatia (Local Name: Hrvatska)
ATTACH;FMTTYPE=image/jpeg:https://kontemplacija.b-cdn.net/wp-content/uploads/2026/03/ulaz-1280x720-1.jpg
ORGANIZER;CN="Kontemplacija & Mistika":MAILTO:neven.bradic@gmail.com
END:VEVENT
END:VCALENDAR