BEGIN:VCALENDAR
VERSION:2.0
PRODID:-//Kontemplacija &amp; Mistika - ECPv6.15.20//NONSGML v1.0//EN
CALSCALE:GREGORIAN
METHOD:PUBLISH
X-WR-CALNAME:Kontemplacija &amp; Mistika
X-ORIGINAL-URL:https://kontemplacija.hr
X-WR-CALDESC:Događaji za Kontemplacija &amp; Mistika
REFRESH-INTERVAL;VALUE=DURATION:PT1H
X-Robots-Tag:noindex
X-PUBLISHED-TTL:PT1H
BEGIN:VTIMEZONE
TZID:Europe/Zagreb
BEGIN:DAYLIGHT
TZOFFSETFROM:+0100
TZOFFSETTO:+0200
TZNAME:CEST
DTSTART:20240331T010000
END:DAYLIGHT
BEGIN:STANDARD
TZOFFSETFROM:+0200
TZOFFSETTO:+0100
TZNAME:CET
DTSTART:20241027T010000
END:STANDARD
BEGIN:DAYLIGHT
TZOFFSETFROM:+0100
TZOFFSETTO:+0200
TZNAME:CEST
DTSTART:20250330T010000
END:DAYLIGHT
BEGIN:STANDARD
TZOFFSETFROM:+0200
TZOFFSETTO:+0100
TZNAME:CET
DTSTART:20251026T010000
END:STANDARD
BEGIN:DAYLIGHT
TZOFFSETFROM:+0100
TZOFFSETTO:+0200
TZNAME:CEST
DTSTART:20260329T010000
END:DAYLIGHT
BEGIN:STANDARD
TZOFFSETFROM:+0200
TZOFFSETTO:+0100
TZNAME:CET
DTSTART:20261025T010000
END:STANDARD
END:VTIMEZONE
BEGIN:VEVENT
DTSTART;TZID=Europe/Zagreb:20251121T170000
DTEND;TZID=Europe/Zagreb:20251121T190000
DTSTAMP:20260420T200600
CREATED:20251109T182318Z
LAST-MODIFIED:20251109T190504Z
UID:1270-1763744400-1763751600@kontemplacija.hr
SUMMARY:Čajna ceremonija (gongfucha) s majstoricom čaja Felix
DESCRIPTION:
URL:https://kontemplacija.hr/event/cajna-ceremonija-gongfucha-s-majstoricom-caja-felix/
LOCATION:Sve po špagi – yoga studio\, Ilica 169\, Zagreb\, 10000\, Croatia (Local Name: Hrvatska)
CATEGORIES:Kineska čajna ceremonija,Ostala događanja
ATTACH;FMTTYPE=image/jpeg:https://kontemplacija.b-cdn.net/wp-content/uploads/2018/01/aj-e1514978119761.jpg
ORGANIZER;CN="Kontemplacija & Mistika":MAILTO:neven.bradic@gmail.com
END:VEVENT
BEGIN:VEVENT
DTSTART;TZID=Europe/Zagreb:20251130T080000
DTEND;TZID=Europe/Zagreb:20251130T170000
DTSTAMP:20260420T200600
CREATED:20251109T182144Z
LAST-MODIFIED:20251109T190509Z
UID:1267-1764489600-1764522000@kontemplacija.hr
SUMMARY:Dan kontemplacije
DESCRIPTION:Dok će treće događanje biti Dan kontemplacije 30.11. (ned) sa svojim uobičajenim rasporedom. To je prilika za intenzivniji rad kao i mogućnost razgovora o praksi. Poziv će također uskoro uslijediti … \nVažan dodatak tome jest i to da će se po završetku Dana održati i redovna Godišnja skupština naše Udruge/Centra (u sklopu čega će vam biti predstavljen i plan i program događanja u prvoj polovini 2026.).
URL:https://kontemplacija.hr/event/dan-kontemplacije/
LOCATION:Sve po špagi – yoga studio\, Ilica 169\, Zagreb\, 10000\, Croatia (Local Name: Hrvatska)
CATEGORIES:Ostala događanja
ATTACH;FMTTYPE=image/jpeg:https://kontemplacija.b-cdn.net/wp-content/uploads/2019/08/ceremonija_caja_kuca_aikida.jpg
ORGANIZER;CN="Kontemplacija & Mistika":MAILTO:neven.bradic@gmail.com
END:VEVENT
END:VCALENDAR