BEGIN:VCALENDAR
VERSION:2.0
PRODID:-//Kontemplacija &amp; Mistika - ECPv6.15.20//NONSGML v1.0//EN
CALSCALE:GREGORIAN
METHOD:PUBLISH
X-ORIGINAL-URL:https://kontemplacija.hr
X-WR-CALDESC:Događaji za Kontemplacija &amp; Mistika
REFRESH-INTERVAL;VALUE=DURATION:PT1H
X-Robots-Tag:noindex
X-PUBLISHED-TTL:PT1H
BEGIN:VTIMEZONE
TZID:Europe/Zagreb
BEGIN:DAYLIGHT
TZOFFSETFROM:+0100
TZOFFSETTO:+0200
TZNAME:CEST
DTSTART:20240331T010000
END:DAYLIGHT
BEGIN:STANDARD
TZOFFSETFROM:+0200
TZOFFSETTO:+0100
TZNAME:CET
DTSTART:20241027T010000
END:STANDARD
BEGIN:DAYLIGHT
TZOFFSETFROM:+0100
TZOFFSETTO:+0200
TZNAME:CEST
DTSTART:20250330T010000
END:DAYLIGHT
BEGIN:STANDARD
TZOFFSETFROM:+0200
TZOFFSETTO:+0100
TZNAME:CET
DTSTART:20251026T010000
END:STANDARD
BEGIN:DAYLIGHT
TZOFFSETFROM:+0100
TZOFFSETTO:+0200
TZNAME:CEST
DTSTART:20260329T010000
END:DAYLIGHT
BEGIN:STANDARD
TZOFFSETFROM:+0200
TZOFFSETTO:+0100
TZNAME:CET
DTSTART:20261025T010000
END:STANDARD
END:VTIMEZONE
BEGIN:VEVENT
DTSTART;TZID=Europe/Zagreb:20251213T080000
DTEND;TZID=Europe/Zagreb:20251214T170000
DTSTAMP:20260421T041005
CREATED:20251109T182621Z
LAST-MODIFIED:20260328T103608Z
UID:1272-1765612800-1765731600@kontemplacija.hr
SUMMARY:2. Uvodni tečaj kontemplacije 2025
DESCRIPTION:Uvodna predavanja i uvođenje u praksu kontemplativnog sjedenja
URL:https://kontemplacija.hr/event/2-uvodni-tecaj-kontemplacije-2025/
LOCATION:Sve po špagi – yoga studio\, Ilica 169\, Zagreb\, 10000\, Croatia (Local Name: Hrvatska)
CATEGORIES:Uvodni tečajevi
ATTACH;FMTTYPE=image/jpeg:https://kontemplacija.b-cdn.net/wp-content/uploads/2019/08/kontemplacija_intenziv.jpg
ORGANIZER;CN="Kontemplacija & Mistika":MAILTO:neven.bradic@gmail.com
END:VEVENT
END:VCALENDAR